BEGIN:VCALENDAR
VERSION:2.0
PRODID:-//DP Pro Event Calendar//3.2.7//EN
BEGIN:VEVENT
UID:cda1fcd1-6bd4-4d52-b96a-878891fba933
DTSTART;TZID=America/Toronto:20221012T000000
DTEND;TZID=America/Toronto:20221012T000000
DTSTAMP:20221005T101127Z
SUMMARY:CSIM Annual Meeting 2022
DESCRIPTION:\r \n  	CSIM Annual Meeting 2022\r \n  	October 12-15\, 2022\r \n  	Victoria\, BC\r \n  	Information and registration\r \n 
LOCATION:
URL:
END:VEVENT
END:VCALENDAR