BEGIN:VCALENDAR
VERSION:2.0
PRODID:-//DP Pro Event Calendar//3.2.7//EN
BEGIN:VEVENT
UID:92cfcbf8-044a-48bd-87a2-a4aa0e308409
DTSTART;TZID=America/Toronto;VALUE=DATE:20181013
DTEND;TZID=America/Toronto;VALUE=DATE:20181014
DTSTAMP:20160411T105846Z
SUMMARY:CSIM Annual Meeting 2018
DESCRIPTION:2018 CSIM Annual Meeting\r \n In collaboration with ACP Western Canada Chapters and Rocky Mountain Internal Medicine Conference\r \n Banff Centre\, Alberta\, October 10-13\, 2018\r \n Apply for Abstracts and Awards\r \n \r \n 
LOCATION:
URL:
END:VEVENT
END:VCALENDAR